BEGIN:VCALENDAR
VERSION:2.0
PRODID:-//Bath Freemasons - ECPv4.4.2//NONSGML v1.0//EN
CALSCALE:GREGORIAN
METHOD:PUBLISH
X-WR-CALNAME:Bath Freemasons
X-ORIGINAL-URL:https://bathfreemasons.org.uk
X-WR-CALDESC:Events for Bath Freemasons
BEGIN:VEVENT
DTSTART;TZID=UTC+0:20220831T090000
DTEND;TZID=UTC+0:20220831T110000
DTSTAMP:20260426T000455
CREATED:20220616T085052Z
LAST-MODIFIED:20220616T085052Z
UID:3900-1661936400-1661943600@bathfreemasons.org.uk
SUMMARY:ASE
DESCRIPTION:
URL:https://bathfreemasons.org.uk/event/ase-40/
CATEGORIES:Private Meeting
END:VEVENT
END:VCALENDAR