BEGIN:VCALENDAR
VERSION:2.0
PRODID:-//Bath Freemasons - ECPv4.4.2//NONSGML v1.0//EN
CALSCALE:GREGORIAN
METHOD:PUBLISH
X-WR-CALNAME:Bath Freemasons
X-ORIGINAL-URL:https://bathfreemasons.org.uk
X-WR-CALDESC:Events for Bath Freemasons
BEGIN:VEVENT
DTSTART;TZID=UTC+0:20240916T160000
DTEND;TZID=UTC+0:20240916T180000
DTSTAMP:20260425T005439
CREATED:20240904T100323Z
LAST-MODIFIED:20240904T100323Z
UID:5143-1726502400-1726509600@bathfreemasons.org.uk
SUMMARY:ASE
DESCRIPTION:
URL:https://bathfreemasons.org.uk/event/ase-59/
CATEGORIES:Private Meeting
END:VEVENT
END:VCALENDAR