BEGIN:VCALENDAR
VERSION:2.0
PRODID:-//Bath Freemasons - ECPv4.4.2//NONSGML v1.0//EN
CALSCALE:GREGORIAN
METHOD:PUBLISH
X-WR-CALNAME:Bath Freemasons
X-ORIGINAL-URL:https://bathfreemasons.org.uk
X-WR-CALDESC:Events for Bath Freemasons
BEGIN:VEVENT
DTSTART;TZID=UTC+0:20260915T170000
DTEND;TZID=UTC+0:20260915T230000
DTSTAMP:20260422T020421
CREATED:20260218T190512Z
LAST-MODIFIED:20260218T190512Z
UID:6026-1789491600-1789513200@bathfreemasons.org.uk
SUMMARY:Being Mr Wickham
DESCRIPTION:
URL:https://bathfreemasons.org.uk/event/being-mr-wickham-2/
CATEGORIES:Public Performance
END:VEVENT
END:VCALENDAR