BEGIN:VCALENDAR
VERSION:2.0
PRODID:-//Bath Freemasons - ECPv4.4.2//NONSGML v1.0//EN
CALSCALE:GREGORIAN
METHOD:PUBLISH
X-WR-CALNAME:Bath Freemasons
X-ORIGINAL-URL:https://bathfreemasons.org.uk
X-WR-CALDESC:Events for Bath Freemasons
BEGIN:VEVENT
DTSTART;VALUE=DATE:20250918
DTEND;VALUE=DATE:20250921
DTSTAMP:20260421T094642
CREATED:20250630T080845Z
LAST-MODIFIED:20250630T080845Z
UID:5589-1758153600-1758499199@bathfreemasons.org.uk
SUMMARY:Being Mr Wickham
DESCRIPTION:
URL:https://bathfreemasons.org.uk/event/being-mr-wickham/
CATEGORIES:Public Performance
END:VEVENT
END:VCALENDAR