BEGIN:VCALENDAR
VERSION:2.0
PRODID:-//Bath Freemasons - ECPv4.4.2//NONSGML v1.0//EN
CALSCALE:GREGORIAN
METHOD:PUBLISH
X-WR-CALNAME:Bath Freemasons
X-ORIGINAL-URL:https://bathfreemasons.org.uk
X-WR-CALDESC:Events for Bath Freemasons
BEGIN:VEVENT
DTSTART;TZID=UTC+0:20230316T103000
DTEND;TZID=UTC+0:20230316T120000
DTSTAMP:20260425T133229
CREATED:20221116T093945Z
LAST-MODIFIED:20221116T093945Z
UID:4174-1678962600-1678968000@bathfreemasons.org.uk
SUMMARY:BMWA
DESCRIPTION:
URL:https://bathfreemasons.org.uk/event/bmwa-15/
CATEGORIES:Private Function
END:VEVENT
END:VCALENDAR