BEGIN:VCALENDAR
VERSION:2.0
PRODID:-//Bath Freemasons - ECPv4.4.2//NONSGML v1.0//EN
CALSCALE:GREGORIAN
METHOD:PUBLISH
X-WR-CALNAME:Bath Freemasons
X-ORIGINAL-URL:https://bathfreemasons.org.uk
X-WR-CALDESC:Events for Bath Freemasons
BEGIN:VEVENT
DTSTART;TZID=UTC+0:20240321T103000
DTEND;TZID=UTC+0:20240321T130000
DTSTAMP:20260424T040530
CREATED:20240117T172920Z
LAST-MODIFIED:20240117T172920Z
UID:4722-1711017000-1711026000@bathfreemasons.org.uk
SUMMARY:BMWA
DESCRIPTION:
URL:https://bathfreemasons.org.uk/event/bmwa-22/
CATEGORIES:Private Function
END:VEVENT
END:VCALENDAR