BEGIN:VCALENDAR
VERSION:2.0
PRODID:-//Bath Freemasons - ECPv4.4.2//NONSGML v1.0//EN
CALSCALE:GREGORIAN
METHOD:PUBLISH
X-WR-CALNAME:Bath Freemasons
X-ORIGINAL-URL:https://bathfreemasons.org.uk
X-WR-CALDESC:Events for Bath Freemasons
BEGIN:VEVENT
DTSTART;TZID=UTC+0:20250417T103000
DTEND;TZID=UTC+0:20250417T120000
DTSTAMP:20260422T051447
CREATED:20241026T090852Z
LAST-MODIFIED:20250111T174036Z
UID:5211-1744885800-1744891200@bathfreemasons.org.uk
SUMMARY:Bath Masonic Widows' Assn
DESCRIPTION:
URL:https://bathfreemasons.org.uk/event/bmwa-25/
CATEGORIES:Private Function
END:VEVENT
END:VCALENDAR