BEGIN:VCALENDAR
VERSION:2.0
PRODID:-//Bath Freemasons - ECPv4.4.2//NONSGML v1.0//EN
CALSCALE:GREGORIAN
METHOD:PUBLISH
X-WR-CALNAME:Bath Freemasons
X-ORIGINAL-URL:https://bathfreemasons.org.uk
X-WR-CALDESC:Events for Bath Freemasons
BEGIN:VEVENT
DTSTART;TZID=UTC+0:20241017T103000
DTEND;TZID=UTC+0:20241017T130000
DTSTAMP:20260424T070226
CREATED:20240117T173314Z
LAST-MODIFIED:20240117T173314Z
UID:4730-1729161000-1729170000@bathfreemasons.org.uk
SUMMARY:BMWA
DESCRIPTION:
URL:https://bathfreemasons.org.uk/event/bmwa-26/
CATEGORIES:Private Function
END:VEVENT
END:VCALENDAR