BEGIN:VCALENDAR
VERSION:2.0
PRODID:-//Bath Freemasons - ECPv4.4.2//NONSGML v1.0//EN
CALSCALE:GREGORIAN
METHOD:PUBLISH
X-WR-CALNAME:Bath Freemasons
X-ORIGINAL-URL:https://bathfreemasons.org.uk
X-WR-CALDESC:Events for Bath Freemasons
BEGIN:VEVENT
DTSTART;TZID=UTC+0:20261119T103000
DTEND;TZID=UTC+0:20261119T120000
DTSTAMP:20260424T191033
CREATED:20251230T112000Z
LAST-MODIFIED:20260113T161442Z
UID:5945-1795084200-1795089600@bathfreemasons.org.uk
SUMMARY:BMWA
DESCRIPTION:
URL:https://bathfreemasons.org.uk/event/bmwa-37/
CATEGORIES:Private Meeting
END:VEVENT
END:VCALENDAR