BEGIN:VCALENDAR
VERSION:2.0
PRODID:-//Bath Freemasons - ECPv4.4.2//NONSGML v1.0//EN
CALSCALE:GREGORIAN
METHOD:PUBLISH
X-WR-CALNAME:Bath Freemasons
X-ORIGINAL-URL:https://bathfreemasons.org.uk
X-WR-CALDESC:Events for Bath Freemasons
BEGIN:VEVENT
DTSTART;TZID=UTC+0:20260928T183000
DTEND;TZID=UTC+0:20260928T203000
DTSTAMP:20260421T171638
CREATED:20251230T095755Z
LAST-MODIFIED:20251230T095755Z
UID:5881-1790620200-1790627400@bathfreemasons.org.uk
SUMMARY:CTTEE - Lodge of Honour
DESCRIPTION:
URL:https://bathfreemasons.org.uk/event/cttee-lodge-honour-16/
CATEGORIES:379
END:VEVENT
END:VCALENDAR