BEGIN:VCALENDAR
VERSION:2.0
PRODID:-//Bath Freemasons - ECPv4.4.2//NONSGML v1.0//EN
CALSCALE:GREGORIAN
METHOD:PUBLISH
X-WR-CALNAME:Bath Freemasons
X-ORIGINAL-URL:https://bathfreemasons.org.uk
X-WR-CALDESC:Events for Bath Freemasons
BEGIN:VEVENT
DTSTART;TZID=UTC+0:20211025T190000
DTEND;TZID=UTC+0:20211025T210000
DTSTAMP:20260426T033446
CREATED:20211020T161715Z
LAST-MODIFIED:20211020T161715Z
UID:3628-1635188400-1635195600@bathfreemasons.org.uk
SUMMARY:CTTEE - Lodge of Honour
DESCRIPTION:
URL:https://bathfreemasons.org.uk/event/cttee-lodge-honour-2/
CATEGORIES:379
END:VEVENT
END:VCALENDAR