BEGIN:VCALENDAR
VERSION:2.0
PRODID:-//Bath Freemasons - ECPv4.4.2//NONSGML v1.0//EN
CALSCALE:GREGORIAN
METHOD:PUBLISH
X-WR-CALNAME:Bath Freemasons
X-ORIGINAL-URL:https://bathfreemasons.org.uk
X-WR-CALDESC:Events for Bath Freemasons
BEGIN:VEVENT
DTSTART;TZID=UTC+0:20241125T183000
DTEND;TZID=UTC+0:20241125T200000
DTSTAMP:20260424T193227
CREATED:20241120T124247Z
LAST-MODIFIED:20241120T124247Z
UID:5234-1732559400-1732564800@bathfreemasons.org.uk
SUMMARY:CTTEE - Lodge of Honour
DESCRIPTION:
URL:https://bathfreemasons.org.uk/event/cttee-lodge-honour-6/
CATEGORIES:379
END:VEVENT
END:VCALENDAR