BEGIN:VCALENDAR
VERSION:2.0
PRODID:-//Bath Freemasons - ECPv4.4.2//NONSGML v1.0//EN
CALSCALE:GREGORIAN
METHOD:PUBLISH
X-WR-CALNAME:Bath Freemasons
X-ORIGINAL-URL:https://bathfreemasons.org.uk
X-WR-CALDESC:Events for Bath Freemasons
BEGIN:VEVENT
DTSTART;TZID=UTC+0:20251126T180000
DTEND;TZID=UTC+0:20251126T220000
DTSTAMP:20260423T164654
CREATED:20251027T170710Z
LAST-MODIFIED:20251126T092925Z
UID:5655-1764180000-1764194400@bathfreemasons.org.uk
SUMMARY:Elizabethan Lodge Tour & Social
DESCRIPTION:
URL:https://bathfreemasons.org.uk/event/elizabethan-lodge-tour-social/
END:VEVENT
END:VCALENDAR