BEGIN:VCALENDAR
VERSION:2.0
PRODID:-//Bath Freemasons - ECPv4.4.2//NONSGML v1.0//EN
CALSCALE:GREGORIAN
METHOD:PUBLISH
X-WR-CALNAME:Bath Freemasons
X-ORIGINAL-URL:https://bathfreemasons.org.uk
X-WR-CALDESC:Events for Bath Freemasons
BEGIN:VEVENT
DTSTART;TZID=UTC+0:20240617T183000
DTEND;TZID=UTC+0:20240617T210000
DTSTAMP:20260424T082855
CREATED:20240613T071557Z
LAST-MODIFIED:20240613T071557Z
UID:4991-1718649000-1718658000@bathfreemasons.org.uk
SUMMARY:John Neville
DESCRIPTION:
URL:https://bathfreemasons.org.uk/event/john-neville/
CATEGORIES:Private Meeting
END:VEVENT
END:VCALENDAR