BEGIN:VCALENDAR
VERSION:2.0
PRODID:-//Bath Freemasons - ECPv4.4.2//NONSGML v1.0//EN
CALSCALE:GREGORIAN
METHOD:PUBLISH
X-WR-CALNAME:Bath Freemasons
X-ORIGINAL-URL:https://bathfreemasons.org.uk
X-WR-CALDESC:Events for Bath Freemasons
BEGIN:VEVENT
DTSTART;TZID=UTC+0:20210526T190000
DTEND;TZID=UTC+0:20210526T210000
DTSTAMP:20260419T134128
CREATED:20200814T135928Z
LAST-MODIFIED:20200814T135928Z
UID:3149-1622055600-1622062800@bathfreemasons.org.uk
SUMMARY:LOI - Elizabethan
DESCRIPTION:
URL:https://bathfreemasons.org.uk/event/loi-elizabethan-28/
END:VEVENT
END:VCALENDAR