BEGIN:VCALENDAR
VERSION:2.0
PRODID:-//Bath Freemasons - ECPv4.4.2//NONSGML v1.0//EN
CALSCALE:GREGORIAN
METHOD:PUBLISH
X-WR-CALNAME:Bath Freemasons
X-ORIGINAL-URL:https://bathfreemasons.org.uk
X-WR-CALDESC:Events for Bath Freemasons
BEGIN:VEVENT
DTSTART;TZID=UTC+0:20250911T183000
DTEND;TZID=UTC+0:20250911T200000
DTSTAMP:20260421T174603
CREATED:20241124T154557Z
LAST-MODIFIED:20250326T083245Z
UID:5259-1757615400-1757620800@bathfreemasons.org.uk
SUMMARY:LOI - Elizabethan
DESCRIPTION:
URL:https://bathfreemasons.org.uk/event/loi-elizabethan-60/
CATEGORIES:7296
END:VEVENT
END:VCALENDAR