BEGIN:VCALENDAR
VERSION:2.0
PRODID:-//Bath Freemasons - ECPv4.4.2//NONSGML v1.0//EN
CALSCALE:GREGORIAN
METHOD:PUBLISH
X-WR-CALNAME:Bath Freemasons
X-ORIGINAL-URL:https://bathfreemasons.org.uk
X-WR-CALDESC:Events for Bath Freemasons
BEGIN:VEVENT
DTSTART;TZID=UTC+0:20250327T183000
DTEND;TZID=UTC+0:20250327T200000
DTSTAMP:20260421T225256
CREATED:20240911T161716Z
LAST-MODIFIED:20240911T161716Z
UID:5156-1743100200-1743105600@bathfreemasons.org.uk
SUMMARY:LOI - Royal Cumberland
DESCRIPTION:
URL:https://bathfreemasons.org.uk/event/loi-royal-cumberland-30/
CATEGORIES:41
END:VEVENT
END:VCALENDAR