BEGIN:VCALENDAR
VERSION:2.0
PRODID:-//Bath Freemasons - ECPv4.4.2//NONSGML v1.0//EN
CALSCALE:GREGORIAN
METHOD:PUBLISH
X-WR-CALNAME:Bath Freemasons
X-ORIGINAL-URL:https://bathfreemasons.org.uk
X-WR-CALDESC:Events for Bath Freemasons
BEGIN:VEVENT
DTSTART;TZID=UTC+0:20260924T183000
DTEND;TZID=UTC+0:20260924T203000
DTSTAMP:20260421T223545
CREATED:20251230T095533Z
LAST-MODIFIED:20251230T095533Z
UID:5877-1790274600-1790281800@bathfreemasons.org.uk
SUMMARY:LOI - Royal Cumberland
DESCRIPTION:
URL:https://bathfreemasons.org.uk/event/loi-royal-cumberland-36/
CATEGORIES:41
END:VEVENT
END:VCALENDAR