BEGIN:VCALENDAR
VERSION:2.0
PRODID:-//Bath Freemasons - ECPv4.4.2//NONSGML v1.0//EN
CALSCALE:GREGORIAN
METHOD:PUBLISH
X-WR-CALNAME:Bath Freemasons
X-ORIGINAL-URL:https://bathfreemasons.org.uk
X-WR-CALDESC:Events for Bath Freemasons
BEGIN:VEVENT
DTSTART;TZID=UTC+0:20261029T183000
DTEND;TZID=UTC+0:20261029T203000
DTSTAMP:20260424T051859
CREATED:20251230T101702Z
LAST-MODIFIED:20251230T101702Z
UID:5917-1793298600-1793305800@bathfreemasons.org.uk
SUMMARY:LOI - Royal Cumberland
DESCRIPTION:
URL:https://bathfreemasons.org.uk/event/loi-royal-cumberland-37/
CATEGORIES:41
END:VEVENT
END:VCALENDAR