BEGIN:VCALENDAR
VERSION:2.0
PRODID:-//Bath Freemasons - ECPv4.4.2//NONSGML v1.0//EN
CALSCALE:GREGORIAN
METHOD:PUBLISH
X-WR-CALNAME:Bath Freemasons
X-ORIGINAL-URL:https://bathfreemasons.org.uk
X-WR-CALDESC:Events for Bath Freemasons
BEGIN:VEVENT
DTSTART;TZID=UTC+0:20211028T180000
DTEND;TZID=UTC+0:20211028T200000
DTSTAMP:20260426T001057
CREATED:20210813T092946Z
LAST-MODIFIED:20210813T092946Z
UID:3336-1635444000-1635451200@bathfreemasons.org.uk
SUMMARY:LOI - Royal Cumberland
DESCRIPTION:
URL:https://bathfreemasons.org.uk/event/loi-royal-cumberland-7/
CATEGORIES:41
END:VEVENT
END:VCALENDAR