BEGIN:VCALENDAR
VERSION:2.0
PRODID:-//Bath Freemasons - ECPv4.4.2//NONSGML v1.0//EN
CALSCALE:GREGORIAN
METHOD:PUBLISH
X-WR-CALNAME:Bath Freemasons
X-ORIGINAL-URL:https://bathfreemasons.org.uk
X-WR-CALDESC:Events for Bath Freemasons
BEGIN:VEVENT
DTSTART;TZID=UTC+0:20241121T183000
DTEND;TZID=UTC+0:20241121T200000
DTSTAMP:20260424T035147
CREATED:20240128T151418Z
LAST-MODIFIED:20240128T151418Z
UID:4895-1732213800-1732219200@bathfreemasons.org.uk
SUMMARY:LOI - Royal Sussex
DESCRIPTION:
URL:https://bathfreemasons.org.uk/event/loi-royal-sussex-41/
CATEGORIES:53
END:VEVENT
END:VCALENDAR