BEGIN:VCALENDAR
VERSION:2.0
PRODID:-//Bath Freemasons - ECPv4.4.2//NONSGML v1.0//EN
CALSCALE:GREGORIAN
METHOD:PUBLISH
X-WR-CALNAME:Bath Freemasons
X-ORIGINAL-URL:https://bathfreemasons.org.uk
X-WR-CALDESC:Events for Bath Freemasons
BEGIN:VEVENT
DTSTART;TZID=UTC+0:20240312T183000
DTEND;TZID=UTC+0:20240312T203000
DTSTAMP:20260424T005904
CREATED:20230907T110112Z
LAST-MODIFIED:20230907T110128Z
UID:4470-1710268200-1710275400@bathfreemasons.org.uk
SUMMARY:LOI - St Alphege
DESCRIPTION:
URL:https://bathfreemasons.org.uk/event/loi-st-alphege-23/
CATEGORIES:4095
END:VEVENT
END:VCALENDAR