BEGIN:VCALENDAR
VERSION:2.0
PRODID:-//Bath Freemasons - ECPv4.4.2//NONSGML v1.0//EN
CALSCALE:GREGORIAN
METHOD:PUBLISH
X-WR-CALNAME:Bath Freemasons
X-ORIGINAL-URL:https://bathfreemasons.org.uk
X-WR-CALDESC:Events for Bath Freemasons
BEGIN:VEVENT
DTSTART;TZID=UTC+0:20250211T200000
DTEND;TZID=UTC+0:20250211T220000
DTSTAMP:20260420T073026
CREATED:20240630T111256Z
LAST-MODIFIED:20240630T111256Z
UID:5043-1739304000-1739311200@bathfreemasons.org.uk
SUMMARY:LOI - St Alphege
DESCRIPTION:
URL:https://bathfreemasons.org.uk/event/loi-st-alphege-28/
CATEGORIES:4095
END:VEVENT
END:VCALENDAR