BEGIN:VCALENDAR
VERSION:2.0
PRODID:-//Bath Freemasons - ECPv4.4.2//NONSGML v1.0//EN
CALSCALE:GREGORIAN
METHOD:PUBLISH
X-WR-CALNAME:Bath Freemasons
X-ORIGINAL-URL:https://bathfreemasons.org.uk
X-WR-CALDESC:Events for Bath Freemasons
BEGIN:VEVENT
DTSTART;TZID=UTC+0:20230217T180000
DTEND;TZID=UTC+0:20230217T220000
DTSTAMP:20260425T113436
CREATED:20220628T091724Z
LAST-MODIFIED:20220628T091724Z
UID:3909-1676656800-1676671200@bathfreemasons.org.uk
SUMMARY:MTG - Antiquity Rose
DESCRIPTION:
URL:https://bathfreemasons.org.uk/event/mtg-antiquity-rose/
CATEGORIES:RC95
END:VEVENT
END:VCALENDAR