BEGIN:VCALENDAR
VERSION:2.0
PRODID:-//Bath Freemasons - ECPv4.4.2//NONSGML v1.0//EN
CALSCALE:GREGORIAN
METHOD:PUBLISH
X-WR-CALNAME:Bath Freemasons
X-ORIGINAL-URL:https://bathfreemasons.org.uk
X-WR-CALDESC:Events for Bath Freemasons
BEGIN:VEVENT
DTSTART;TZID=UTC+0:20240306T183000
DTEND;TZID=UTC+0:20240306T220000
DTSTAMP:20260423T183304
CREATED:20230917T165041Z
LAST-MODIFIED:20230917T165057Z
UID:4588-1709749800-1709762400@bathfreemasons.org.uk
SUMMARY:MTG - Bath RAM
DESCRIPTION:
URL:https://bathfreemasons.org.uk/event/mtg-bath-ram-16/
CATEGORIES:RAM
END:VEVENT
END:VCALENDAR