BEGIN:VCALENDAR
VERSION:2.0
PRODID:-//Bath Freemasons - ECPv4.4.2//NONSGML v1.0//EN
CALSCALE:GREGORIAN
METHOD:PUBLISH
X-WR-CALNAME:Bath Freemasons
X-ORIGINAL-URL:https://bathfreemasons.org.uk
X-WR-CALDESC:Events for Bath Freemasons
BEGIN:VEVENT
DTSTART;TZID=UTC+0:20211103T183000
DTEND;TZID=UTC+0:20211103T223000
DTSTAMP:20260425T161650
CREATED:20210813T093627Z
LAST-MODIFIED:20210813T093627Z
UID:3342-1635964200-1635978600@bathfreemasons.org.uk
SUMMARY:MTG - Bath RAM (I)
DESCRIPTION:
URL:https://bathfreemasons.org.uk/event/mtg-bath-ram-9/
CATEGORIES:RAM
END:VEVENT
END:VCALENDAR