BEGIN:VCALENDAR
VERSION:2.0
PRODID:-//Bath Freemasons - ECPv4.4.2//NONSGML v1.0//EN
CALSCALE:GREGORIAN
METHOD:PUBLISH
X-WR-CALNAME:Bath Freemasons
X-ORIGINAL-URL:https://bathfreemasons.org.uk
X-WR-CALDESC:Events for Bath Freemasons
BEGIN:VEVENT
DTSTART;TZID=UTC+0:20230223T183000
DTEND;TZID=UTC+0:20230223T223000
DTSTAMP:20260425T030827
CREATED:20221005T102157Z
LAST-MODIFIED:20221005T102157Z
UID:4049-1677177000-1677191400@bathfreemasons.org.uk
SUMMARY:MTG - Bladud KT
DESCRIPTION:
URL:https://bathfreemasons.org.uk/event/mtg-bladud-kt-12/
CATEGORIES:KT40
END:VEVENT
END:VCALENDAR