BEGIN:VCALENDAR
VERSION:2.0
PRODID:-//Bath Freemasons - ECPv4.4.2//NONSGML v1.0//EN
CALSCALE:GREGORIAN
METHOD:PUBLISH
X-WR-CALNAME:Bath Freemasons
X-ORIGINAL-URL:https://bathfreemasons.org.uk
X-WR-CALDESC:Events for Bath Freemasons
BEGIN:VEVENT
DTSTART;TZID=UTC+0:20240222T183000
DTEND;TZID=UTC+0:20240222T220000
DTSTAMP:20260424T144012
CREATED:20230917T163235Z
LAST-MODIFIED:20230917T163235Z
UID:4559-1708626600-1708639200@bathfreemasons.org.uk
SUMMARY:MTG - Bladud KT
DESCRIPTION:
URL:https://bathfreemasons.org.uk/event/mtg-bladud-kt-15/
CATEGORIES:KT40
END:VEVENT
END:VCALENDAR