BEGIN:VCALENDAR
VERSION:2.0
PRODID:-//Bath Freemasons - ECPv4.4.2//NONSGML v1.0//EN
CALSCALE:GREGORIAN
METHOD:PUBLISH
X-WR-CALNAME:Bath Freemasons
X-ORIGINAL-URL:https://bathfreemasons.org.uk
X-WR-CALDESC:Events for Bath Freemasons
BEGIN:VEVENT
DTSTART;TZID=UTC+0:20230307T183000
DTEND;TZID=UTC+0:20230307T220000
DTSTAMP:20260424T221412
CREATED:20221005T133010Z
LAST-MODIFIED:20221005T133010Z
UID:4070-1678213800-1678226400@bathfreemasons.org.uk
SUMMARY:MTG - Elizabethan
DESCRIPTION:
URL:https://bathfreemasons.org.uk/event/mtg-elizabethan-26/
CATEGORIES:7296
END:VEVENT
END:VCALENDAR