BEGIN:VCALENDAR
VERSION:2.0
PRODID:-//Bath Freemasons - ECPv4.4.2//NONSGML v1.0//EN
CALSCALE:GREGORIAN
METHOD:PUBLISH
X-WR-CALNAME:Bath Freemasons
X-ORIGINAL-URL:https://bathfreemasons.org.uk
X-WR-CALDESC:Events for Bath Freemasons
BEGIN:VEVENT
DTSTART;TZID=UTC+0:20240206T183000
DTEND;TZID=UTC+0:20240206T230000
DTSTAMP:20260424T212212
CREATED:20230917T161708Z
LAST-MODIFIED:20230917T161708Z
UID:4533-1707244200-1707260400@bathfreemasons.org.uk
SUMMARY:MTG - Elizabethan
DESCRIPTION:
URL:https://bathfreemasons.org.uk/event/mtg-elizabethan-29/
CATEGORIES:7296
END:VEVENT
END:VCALENDAR