BEGIN:VCALENDAR
VERSION:2.0
PRODID:-//Bath Freemasons - ECPv4.4.2//NONSGML v1.0//EN
CALSCALE:GREGORIAN
METHOD:PUBLISH
X-WR-CALNAME:Bath Freemasons
X-ORIGINAL-URL:https://bathfreemasons.org.uk
X-WR-CALDESC:Events for Bath Freemasons
BEGIN:VEVENT
DTSTART;TZID=UTC+0:20250625T183000
DTEND;TZID=UTC+0:20250625T223000
DTSTAMP:20260425T033709
CREATED:20250602T145931Z
LAST-MODIFIED:20250602T145931Z
UID:5574-1750876200-1750890600@bathfreemasons.org.uk
SUMMARY:MTG - Royal Albert Edward
DESCRIPTION:
URL:https://bathfreemasons.org.uk/event/mtg-royal-albert-edward-51/
CATEGORIES:906
END:VEVENT
END:VCALENDAR