BEGIN:VCALENDAR
VERSION:2.0
PRODID:-//Bath Freemasons - ECPv4.4.2//NONSGML v1.0//EN
CALSCALE:GREGORIAN
METHOD:PUBLISH
X-WR-CALNAME:Bath Freemasons
X-ORIGINAL-URL:https://bathfreemasons.org.uk
X-WR-CALDESC:Events for Bath Freemasons
BEGIN:VEVENT
DTSTART;TZID=UTC+0:20230302T183000
DTEND;TZID=UTC+0:20230302T223000
DTSTAMP:20260424T152827
CREATED:20221005T132613Z
LAST-MODIFIED:20221005T132613Z
UID:4062-1677781800-1677796200@bathfreemasons.org.uk
SUMMARY:MTG - Royal Cumberland
DESCRIPTION:
URL:https://bathfreemasons.org.uk/event/mtg-royal-cumberland-37/
CATEGORIES:41
END:VEVENT
END:VCALENDAR