BEGIN:VCALENDAR
VERSION:2.0
PRODID:-//Bath Freemasons - ECPv4.4.2//NONSGML v1.0//EN
CALSCALE:GREGORIAN
METHOD:PUBLISH
X-WR-CALNAME:Bath Freemasons
X-ORIGINAL-URL:https://bathfreemasons.org.uk
X-WR-CALDESC:Events for Bath Freemasons
BEGIN:VEVENT
DTSTART;TZID=UTC+0:20230413T183000
DTEND;TZID=UTC+0:20230413T220000
DTSTAMP:20260424T170118
CREATED:20221008T112910Z
LAST-MODIFIED:20221008T112910Z
UID:4122-1681410600-1681423200@bathfreemasons.org.uk
SUMMARY:MTG - Royal Cumberland
DESCRIPTION:
URL:https://bathfreemasons.org.uk/event/mtg-royal-cumberland-38/
CATEGORIES:41
END:VEVENT
END:VCALENDAR