BEGIN:VCALENDAR
VERSION:2.0
PRODID:-//Bath Freemasons - ECPv4.4.2//NONSGML v1.0//EN
CALSCALE:GREGORIAN
METHOD:PUBLISH
X-WR-CALNAME:Bath Freemasons
X-ORIGINAL-URL:https://bathfreemasons.org.uk
X-WR-CALDESC:Events for Bath Freemasons
BEGIN:VEVENT
DTSTART;TZID=UTC+0:20240411T180000
DTEND;TZID=UTC+0:20240411T223000
DTSTAMP:20260424T022950
CREATED:20240128T100729Z
LAST-MODIFIED:20240128T100729Z
UID:4760-1712858400-1712874600@bathfreemasons.org.uk
SUMMARY:MTG - Royal Cumberland
DESCRIPTION:
URL:https://bathfreemasons.org.uk/event/mtg-royal-cumberland-43/
CATEGORIES:41
END:VEVENT
END:VCALENDAR