BEGIN:VCALENDAR
VERSION:2.0
PRODID:-//Bath Freemasons - ECPv4.4.2//NONSGML v1.0//EN
CALSCALE:GREGORIAN
METHOD:PUBLISH
X-WR-CALNAME:Bath Freemasons
X-ORIGINAL-URL:https://bathfreemasons.org.uk
X-WR-CALDESC:Events for Bath Freemasons
BEGIN:VEVENT
DTSTART;TZID=UTC+0:20231011T183000
DTEND;TZID=UTC+0:20231011T220000
DTSTAMP:20260425T024709
CREATED:20230305T143926Z
LAST-MODIFIED:20230305T143926Z
UID:4282-1697049000-1697061600@bathfreemasons.org.uk
SUMMARY:MTG - Royal Cumberland Mark
DESCRIPTION:
URL:https://bathfreemasons.org.uk/event/mtg-royal-cumberland-mark-22/
CATEGORIES:M41
END:VEVENT
END:VCALENDAR