BEGIN:VCALENDAR
VERSION:2.0
PRODID:-//Bath Freemasons - ECPv4.4.2//NONSGML v1.0//EN
CALSCALE:GREGORIAN
METHOD:PUBLISH
X-WR-CALNAME:Bath Freemasons
X-ORIGINAL-URL:https://bathfreemasons.org.uk
X-WR-CALDESC:Events for Bath Freemasons
BEGIN:VEVENT
DTSTART;TZID=UTC+0:20240321T183000
DTEND;TZID=UTC+0:20240321T223000
DTSTAMP:20260424T024431
CREATED:20230917T165716Z
LAST-MODIFIED:20240307T142720Z
UID:4594-1711045800-1711060200@bathfreemasons.org.uk
SUMMARY:MTG - Royal Cumberland Mark (I)
DESCRIPTION:
URL:https://bathfreemasons.org.uk/event/mtg-royal-cumberland-mark-25/
CATEGORIES:M41
END:VEVENT
END:VCALENDAR