BEGIN:VCALENDAR
VERSION:2.0
PRODID:-//Bath Freemasons - ECPv4.4.2//NONSGML v1.0//EN
CALSCALE:GREGORIAN
METHOD:PUBLISH
X-WR-CALNAME:Bath Freemasons
X-ORIGINAL-URL:https://bathfreemasons.org.uk
X-WR-CALDESC:Events for Bath Freemasons
BEGIN:VEVENT
DTSTART;TZID=UTC+0:20250212T180000
DTEND;TZID=UTC+0:20250212T220000
DTSTAMP:20260424T111735
CREATED:20240630T111401Z
LAST-MODIFIED:20240630T111401Z
UID:5045-1739383200-1739397600@bathfreemasons.org.uk
SUMMARY:MTG - Royal Cumberland Mark
DESCRIPTION:
URL:https://bathfreemasons.org.uk/event/mtg-royal-cumberland-mark-28/
CATEGORIES:M41
END:VEVENT
END:VCALENDAR