BEGIN:VCALENDAR
VERSION:2.0
PRODID:-//Bath Freemasons - ECPv4.4.2//NONSGML v1.0//EN
CALSCALE:GREGORIAN
METHOD:PUBLISH
X-WR-CALNAME:Bath Freemasons
X-ORIGINAL-URL:https://bathfreemasons.org.uk
X-WR-CALDESC:Events for Bath Freemasons
BEGIN:VEVENT
DTSTART;TZID=UTC+0:20250312T180000
DTEND;TZID=UTC+0:20250312T223000
DTSTAMP:20260421T234703
CREATED:20240630T160500Z
LAST-MODIFIED:20240630T160500Z
UID:5097-1741802400-1741818600@bathfreemasons.org.uk
SUMMARY:MTG - Royal Cumberland Mark (I)
DESCRIPTION:
URL:https://bathfreemasons.org.uk/event/mtg-royal-cumberland-mark-29/
CATEGORIES:M41
END:VEVENT
END:VCALENDAR