BEGIN:VCALENDAR
VERSION:2.0
PRODID:-//Bath Freemasons - ECPv4.4.2//NONSGML v1.0//EN
CALSCALE:GREGORIAN
METHOD:PUBLISH
X-WR-CALNAME:Bath Freemasons
X-ORIGINAL-URL:https://bathfreemasons.org.uk
X-WR-CALDESC:Events for Bath Freemasons
BEGIN:VEVENT
DTSTART;TZID=UTC+0:20261014T183000
DTEND;TZID=UTC+0:20261014T223000
DTSTAMP:20260423T113334
CREATED:20251230T100502Z
LAST-MODIFIED:20251230T100502Z
UID:5895-1792002600-1792017000@bathfreemasons.org.uk
SUMMARY:MTG - Royal Cumberland Mark (I) + Royal Sussex Mark
DESCRIPTION:
URL:https://bathfreemasons.org.uk/event/mtg-royal-cumberland-mark-royal-sussex-mark-2/
CATEGORIES:M177,M41
END:VEVENT
END:VCALENDAR