BEGIN:VCALENDAR
VERSION:2.0
PRODID:-//Bath Freemasons - ECPv4.4.2//NONSGML v1.0//EN
CALSCALE:GREGORIAN
METHOD:PUBLISH
X-WR-CALNAME:Bath Freemasons
X-ORIGINAL-URL:https://bathfreemasons.org.uk
X-WR-CALDESC:Events for Bath Freemasons
BEGIN:VEVENT
DTSTART;TZID=UTC+0:20230327T180000
DTEND;TZID=UTC+0:20230327T223000
DTSTAMP:20260425T032028
CREATED:20230325T073536Z
LAST-MODIFIED:20230325T073655Z
UID:4344-1679940000-1679956200@bathfreemasons.org.uk
SUMMARY:MTG - Royal Sussex Mark (I)
DESCRIPTION:
URL:https://bathfreemasons.org.uk/event/mtg-royal-sussex-mark-15/
CATEGORIES:M177
END:VEVENT
END:VCALENDAR