BEGIN:VCALENDAR
VERSION:2.0
PRODID:-//Bath Freemasons - ECPv4.4.2//NONSGML v1.0//EN
CALSCALE:GREGORIAN
METHOD:PUBLISH
X-WR-CALNAME:Bath Freemasons
X-ORIGINAL-URL:https://bathfreemasons.org.uk
X-WR-CALDESC:Events for Bath Freemasons
BEGIN:VEVENT
DTSTART;TZID=UTC+0:20250324T180000
DTEND;TZID=UTC+0:20250324T220000
DTSTAMP:20260421T191634
CREATED:20240630T161301Z
LAST-MODIFIED:20240630T161301Z
UID:5113-1742839200-1742853600@bathfreemasons.org.uk
SUMMARY:MTG - Royal Sussex Mark (I)
DESCRIPTION:
URL:https://bathfreemasons.org.uk/event/mtg-royal-sussex-mark-20/
CATEGORIES:M177
END:VEVENT
END:VCALENDAR