BEGIN:VCALENDAR
VERSION:2.0
PRODID:-//Bath Freemasons - ECPv4.4.2//NONSGML v1.0//EN
CALSCALE:GREGORIAN
METHOD:PUBLISH
X-WR-CALNAME:Bath Freemasons
X-ORIGINAL-URL:https://bathfreemasons.org.uk
X-WR-CALDESC:Events for Bath Freemasons
BEGIN:VEVENT
DTSTART;TZID=UTC+0:20251115T080000
DTEND;TZID=UTC+0:20251115T153000
DTSTAMP:20260422T063424
CREATED:20250826T091427Z
LAST-MODIFIED:20250826T091427Z
UID:5626-1763193600-1763220600@bathfreemasons.org.uk
SUMMARY:MTG - Somerset & Wiltshire District RSM
DESCRIPTION:
URL:https://bathfreemasons.org.uk/event/mtg-somerset-wiltshire-district-rsm/
CATEGORIES:Masonic
END:VEVENT
END:VCALENDAR