BEGIN:VCALENDAR
VERSION:2.0
PRODID:-//Bath Freemasons - ECPv4.4.2//NONSGML v1.0//EN
CALSCALE:GREGORIAN
METHOD:PUBLISH
X-WR-CALNAME:Bath Freemasons
X-ORIGINAL-URL:https://bathfreemasons.org.uk
X-WR-CALDESC:Events for Bath Freemasons
BEGIN:VEVENT
DTSTART;TZID=UTC+0:20230304T183000
DTEND;TZID=UTC+0:20230304T223000
DTSTAMP:20260424T185734
CREATED:20221005T132740Z
LAST-MODIFIED:20221005T132740Z
UID:4066-1677954600-1677969000@bathfreemasons.org.uk
SUMMARY:MTG - St Alphege
DESCRIPTION:
URL:https://bathfreemasons.org.uk/event/mtg-st-alphege-38/
CATEGORIES:4095
END:VEVENT
END:VCALENDAR