BEGIN:VCALENDAR
VERSION:2.0
PRODID:-//Bath Freemasons - ECPv4.4.2//NONSGML v1.0//EN
CALSCALE:GREGORIAN
METHOD:PUBLISH
X-WR-CALNAME:Bath Freemasons
X-ORIGINAL-URL:https://bathfreemasons.org.uk
X-WR-CALDESC:Events for Bath Freemasons
BEGIN:VEVENT
DTSTART;TZID=UTC+0:20261107T180000
DTEND;TZID=UTC+0:20261107T223000
DTSTAMP:20260425T011136
CREATED:20251230T102305Z
LAST-MODIFIED:20251230T102305Z
UID:5931-1794074400-1794090600@bathfreemasons.org.uk
SUMMARY:MTG - St Alphege
DESCRIPTION:
URL:https://bathfreemasons.org.uk/event/mtg-st-alphege-60/
CATEGORIES:4095
END:VEVENT
END:VCALENDAR