BEGIN:VCALENDAR
VERSION:2.0
PRODID:-//Bath Freemasons - ECPv4.4.2//NONSGML v1.0//EN
CALSCALE:GREGORIAN
METHOD:PUBLISH
X-WR-CALNAME:Bath Freemasons
X-ORIGINAL-URL:https://bathfreemasons.org.uk
X-WR-CALDESC:Events for Bath Freemasons
BEGIN:VEVENT
DTSTART;TZID=UTC+0:20230215T183000
DTEND;TZID=UTC+0:20230215T220000
DTSTAMP:20260425T122138
CREATED:20221005T100903Z
LAST-MODIFIED:20221005T100903Z
UID:4033-1676485800-1676498400@bathfreemasons.org.uk
SUMMARY:MTG - St Luke's Chapter
DESCRIPTION:
URL:https://bathfreemasons.org.uk/event/mtg-st-lukes-chapter-21/
CATEGORIES:C6540
END:VEVENT
END:VCALENDAR