BEGIN:VCALENDAR
VERSION:2.0
PRODID:-//Bath Freemasons - ECPv4.4.2//NONSGML v1.0//EN
CALSCALE:GREGORIAN
METHOD:PUBLISH
X-WR-CALNAME:Bath Freemasons
X-ORIGINAL-URL:https://bathfreemasons.org.uk
X-WR-CALDESC:Events for Bath Freemasons
BEGIN:VEVENT
DTSTART;TZID=UTC+0:20240221T183000
DTEND;TZID=UTC+0:20240221T220000
DTSTAMP:20260424T144410
CREATED:20230917T163123Z
LAST-MODIFIED:20230917T163123Z
UID:4557-1708540200-1708552800@bathfreemasons.org.uk
SUMMARY:MTG - St Luke's Chapter
DESCRIPTION:
URL:https://bathfreemasons.org.uk/event/mtg-st-lukes-chapter-25/
CATEGORIES:C6540
END:VEVENT
END:VCALENDAR