BEGIN:VCALENDAR
VERSION:2.0
PRODID:-//Bath Freemasons - ECPv4.4.2//NONSGML v1.0//EN
CALSCALE:GREGORIAN
METHOD:PUBLISH
X-WR-CALNAME:Bath Freemasons
X-ORIGINAL-URL:https://bathfreemasons.org.uk
X-WR-CALDESC:Events for Bath Freemasons
BEGIN:VEVENT
DTSTART;TZID=UTC+0:20260916T183000
DTEND;TZID=UTC+0:20260916T223000
DTSTAMP:20260421T223716
CREATED:20251230T094717Z
LAST-MODIFIED:20251230T094717Z
UID:5863-1789583400-1789597800@bathfreemasons.org.uk
SUMMARY:MTG - St Peter & St Paul in Antiquity
DESCRIPTION:
URL:https://bathfreemasons.org.uk/event/mtg-st-peter-st-paul-antiquity-2/
CATEGORIES:RC6
END:VEVENT
END:VCALENDAR