BEGIN:VCALENDAR
VERSION:2.0
PRODID:-//Bath Freemasons - ECPv4.4.2//NONSGML v1.0//EN
CALSCALE:GREGORIAN
METHOD:PUBLISH
X-WR-CALNAME:Bath Freemasons
X-ORIGINAL-URL:https://bathfreemasons.org.uk
X-WR-CALDESC:Events for Bath Freemasons
BEGIN:VEVENT
DTSTART;TZID=UTC+0:20240918T183000
DTEND;TZID=UTC+0:20240918T220000
DTSTAMP:20260424T212539
CREATED:20240128T105324Z
LAST-MODIFIED:20240128T105324Z
UID:4807-1726684200-1726696800@bathfreemasons.org.uk
SUMMARY:MTG - St Peter & St Paul Rose Croix
DESCRIPTION:
URL:https://bathfreemasons.org.uk/event/mtg-st-peter-st-paul-rose-croix-12/
CATEGORIES:RC6
END:VEVENT
END:VCALENDAR