BEGIN:VCALENDAR
VERSION:2.0
PRODID:-//Bath Freemasons - ECPv4.4.2//NONSGML v1.0//EN
CALSCALE:GREGORIAN
METHOD:PUBLISH
X-WR-CALNAME:Bath Freemasons
X-ORIGINAL-URL:https://bathfreemasons.org.uk
X-WR-CALDESC:Events for Bath Freemasons
BEGIN:VEVENT
DTSTART;TZID=UTC+0:20241025T180000
DTEND;TZID=UTC+0:20241025T230000
DTSTAMP:20260423T200646
CREATED:20240513T080708Z
LAST-MODIFIED:20240513T080729Z
UID:4982-1729879200-1729897200@bathfreemasons.org.uk
SUMMARY:Nick Allen - Littlemen Group
DESCRIPTION:
URL:https://bathfreemasons.org.uk/event/nick-allen-littletman-group/
CATEGORIES:Public Performance
END:VEVENT
END:VCALENDAR