BEGIN:VCALENDAR
VERSION:2.0
PRODID:-//Bath Freemasons - ECPv4.4.2//NONSGML v1.0//EN
CALSCALE:GREGORIAN
METHOD:PUBLISH
X-WR-CALNAME:Bath Freemasons
X-ORIGINAL-URL:https://bathfreemasons.org.uk
X-WR-CALDESC:Events for Bath Freemasons
BEGIN:VEVENT
DTSTART;TZID=UTC+0:20240315T160000
DTEND;TZID=UTC+0:20240315T190000
DTSTAMP:20260424T071343
CREATED:20240306T095054Z
LAST-MODIFIED:20240306T095054Z
UID:4943-1710518400-1710529200@bathfreemasons.org.uk
SUMMARY:Photographer
DESCRIPTION:
URL:https://bathfreemasons.org.uk/event/photographer/
CATEGORIES:Private Function
END:VEVENT
END:VCALENDAR